BEGIN:VCALENDAR
VERSION:2.0
PRODID:-//amarillodiocese.org//eCatholic//EN
X-WR-TIMEZONE:LocalTZ
BEGIN:VTIMEZONE
TZID:LocalTZ
X-LIC-LOCATION:LocalTZ
BEGIN:DAYLIGHT
TZOFFSETFROM:-0600
TZOFFSETTO:-0500
TZNAME:LocalTZ
DTSTART:19700308T020000
RRULE:FREQ=YEARLY;BYMONTH=3;BYDAY=2SU
END:DAYLIGHT
BEGIN:STANDARD
TZOFFSETFROM:-0500
TZOFFSETTO:-0600
TZNAME:LocalTZ
DTSTART:19701101T020000
RRULE:FREQ=YEARLY;BYMONTH=11;BYDAY=1SU
END:STANDARD
END:VTIMEZONE
BEGIN:VEVENT
UID:3004466@amarillodiocese.org
DTSTAMP:20260421T215720Z
DTSTART;VALUE=DATE:20260501
DTEND;VALUE=DATE:20260502
SUMMARY:Catholic Schools Teacher Appreciation Event
END:VEVENT
BEGIN:VEVENT
UID:2814784@amarillodiocese.org
DTSTAMP:20260421T215720Z
DTSTART;VALUE=DATE:20260520
DTEND;VALUE=DATE:20260521
SUMMARY:Baccalaureate Mass
DESCRIPTION:Baccalaureate Mass for the Holy Cross Catholic Academy Class o
 f 2026\, at St. Joseph's Church\, Amarillo. Learn more about Holy Cross Ca
 tholic Academy\, the only Catholic secondary school in the Diocese of Amar
 illo by calling the school office at 806-355-9637.
END:VEVENT
BEGIN:VEVENT
UID:2814787@amarillodiocese.org
DTSTAMP:20260421T215720Z
DTSTART;VALUE=DATE:20260522
DTEND;VALUE=DATE:20260523
SUMMARY:Final Day of Classes\, 2025-2026 School Year
DESCRIPTION:The final day of classes for the 2025-2026 school year for Cat
 holic School students in the Diocese of Amarillo.
END:VEVENT
BEGIN:VEVENT
UID:2814791@amarillodiocese.org
DTSTAMP:20260421T215720Z
DTSTART:20260522T190000
DTEND:20260522T200000
SUMMARY:Commencement Exercises
DESCRIPTION:Commencement Exercises for the Holy Cross Catholic Academy Cla
 ss of 2026\, in the HCCA Event Center. For more information about Holy Cro
 ss Catholic Academy\, the only Catholic secondary school in the Diocese of
  Amarillo\, please call the school office at 806-355-9637.
END:VEVENT
BEGIN:VEVENT
UID:3008693@amarillodiocese.org
DTSTAMP:20260421T215720Z
DTSTART;VALUE=DATE:20260907
DTEND;VALUE=DATE:20260908
SUMMARY:Labor Day
DESCRIPTION:Labor Day. Diocesan Pastoral Center\, Catholic Schools in the 
 Diocese of Amarillo and Bishop DeFalco Retreat Center are closed and will 
 reopen on Tuesday\, Sept. 8.
END:VEVENT
BEGIN:VEVENT
UID:3011583@amarillodiocese.org
DTSTAMP:20260421T215720Z
DTSTART;VALUE=DATE:20261003
DTEND;VALUE=DATE:20261004
SUMMARY:Gala to benefit St. Anthony's School
DESCRIPTION:The annual Gala to benefit St. Anthony's School\, Hereford. Ge
 t all the details by calling the school office at 806-364-1952.
END:VEVENT
BEGIN:VEVENT
UID:3008893@amarillodiocese.org
DTSTAMP:20260421T215720Z
DTSTART;VALUE=DATE:20261003
DTEND;VALUE=DATE:20261004
SUMMARY:Annual Fall Carnival
DESCRIPTION:The annual Fall Carnival\, presented by St. Mary's Cathedral S
 chool. Learn more about the carnival by calling the St. Mary's Cathedral S
 chool office at 806-376-9112.
END:VEVENT
BEGIN:VEVENT
UID:3005096@amarillodiocese.org
DTSTAMP:20260421T215720Z
DTSTART;VALUE=DATE:20261010
DTEND;VALUE=DATE:20261011
SUMMARY:School Festival
DESCRIPTION:The annual School Festival for Saint Joseph's School. Learn mo
 re by calling the school office at 806-359-1604.
END:VEVENT
BEGIN:VEVENT
UID:3003335@amarillodiocese.org
DTSTAMP:20260421T215720Z
DTSTART;VALUE=DATE:20261012
DTEND;VALUE=DATE:20261013
SUMMARY:Columbus Day
END:VEVENT
BEGIN:VEVENT
UID:3011616@amarillodiocese.org
DTSTAMP:20260421T215720Z
DTSTART:20261018T110000
DTEND:20261018T120000
SUMMARY:45th Annual Oktoberfest
DESCRIPTION:The 45th annual Oktoberfest to benefit St. Anthony of Padua Sc
 hool\, Dalhart. Find out more by calling St. Anthony of Padua School at 80
 6-244-4811.
END:VEVENT
BEGIN:VEVENT
UID:3003305@amarillodiocese.org
DTSTAMP:20260421T215720Z
DTSTART;VALUE=DATE:20261111
DTEND;VALUE=DATE:20261112
SUMMARY:Remembrance Day
DESCRIPTION:The annual Remembrance Day event at Holy Cross Catholic Academ
 y\, Amarillo. Find out more by contacting Donna Kerr at 806-355-9637.
END:VEVENT
BEGIN:VEVENT
UID:3008715@amarillodiocese.org
DTSTAMP:20260421T215720Z
DTSTART;VALUE=DATE:20261123
DTEND;VALUE=DATE:20261128
SUMMARY:Catholic Schools in the Diocese of Amarillo closed for Thanksgivin
 g Break
DESCRIPTION:Catholic Schools in the Diocese of Amarillo are closed this we
 ek for the Thanksgiving Break. Classes will resume at all five Catholic Sc
 hools on Monday\, Nov. 30.
END:VEVENT
END:VCALENDAR
